BEGIN:VCALENDAR
VERSION:2.0
PRODID:-//eventon.com NONSGML v1.0//EN
CALSCALE:GREGORIAN
METHOD:PUBLISH
BEGIN:VEVENT
UID:69e6f67ec664b
DTSTAMP:20260421T040102Z
DTSTART:20241207T210000Z
DTEND:20241207T215000Z
LOCATION:Flagship Resort 60 N Maine Ave\,  Atlantic City\,  NJ 08401
SUMMARY:Open Play
DESCRIPTION:Open Play\nhttps://www.clubboardwalkresorts.com/events/open-pla
 y-sautrday-2/var/ri-38.l-L1
URL:https://www.clubboardwalkresorts.com/events/open-play-sautrday-2/var/ri-38.l-L1
END:VEVENT
END:VCALENDAR