BEGIN:VCALENDAR
VERSION:2.0
PRODID:-//eventon.com NONSGML v1.0//EN
CALSCALE:GREGORIAN
METHOD:PUBLISH
BEGIN:VEVENT
UID:69eb89e0254ad
DTSTAMP:20260424T151856Z
DTSTART:20241214T174500Z
DTEND:20241214T184500Z
LOCATION:Flagship Resort 60 N Maine Ave\,  Atlantic City\,  NJ 08401
SUMMARY:Snowglobe Making
DESCRIPTION:win treats\nhttps://www.clubboardwalkresorts.com/events/snowglo
 be-making/var/ri-39.l-L1
URL:https://www.clubboardwalkresorts.com/events/snowglobe-making/var/ri-39.l-L1
END:VEVENT
END:VCALENDAR