BEGIN:VCALENDAR
VERSION:2.0
PRODID:-//eventon.com NONSGML v1.0//EN
CALSCALE:GREGORIAN
METHOD:PUBLISH
BEGIN:VEVENT
UID:69eba09b71aa0
DTSTAMP:20260424T165555Z
DTSTART:20240316T164500Z
DTEND:20240316T174500Z
LOCATION:Flagship Resort 60 N Maine Ave\,  Atlantic City\,  NJ 08401
SUMMARY:Snowglobe Making
DESCRIPTION:win treats\nhttps://www.clubboardwalkresorts.com/events/snowglo
 be-making/
URL:https://www.clubboardwalkresorts.com/events/snowglobe-making/
END:VEVENT
END:VCALENDAR