BEGIN:VCALENDAR
VERSION:2.0
PRODID:-//eventon.com NONSGML v1.0//EN
CALSCALE:GREGORIAN
METHOD:PUBLISH
BEGIN:VEVENT
UID:69e9e00e62883
DTSTAMP:20260423T090206Z
DTSTART:20240330T130000Z
DTEND:20240330T134000Z
LOCATION:Flagship Resort 60 N Maine Ave\,  Atlantic City\,  NJ 08401
SUMMARY:Harmonica Making
DESCRIPTION:Harmonica Making\nhttps://www.clubboardwalkresorts.com/events/h
 armonica-making/var/ri-2.l-L1
URL:https://www.clubboardwalkresorts.com/events/harmonica-making/var/ri-2.l-L1
END:VEVENT
END:VCALENDAR