BEGIN:VCALENDAR
VERSION:2.0
PRODID:-//eventon.com NONSGML v1.0//EN
CALSCALE:GREGORIAN
METHOD:PUBLISH
BEGIN:VEVENT
UID:69e9fde77e7e9
DTSTAMP:20260423T110927Z
DTSTART:20241213T170000Z
DTEND:20241213T180000Z
LOCATION:Flagship Resort 60 N Maine Ave\,  Atlantic City\,  NJ 08401
SUMMARY:Rock or Salt Painting
DESCRIPTION:Rock or Salt Painting\nhttps://www.clubboardwalkresorts.com/eve
 nts/rock-or-salt-painting/var/ri-39.l-L1
URL:https://www.clubboardwalkresorts.com/events/rock-or-salt-painting/var/ri-39.l-L1
END:VEVENT
END:VCALENDAR