BEGIN:VCALENDAR
VERSION:2.0
PRODID:-//eventon.com NONSGML v1.0//EN
CALSCALE:GREGORIAN
METHOD:PUBLISH
BEGIN:VEVENT
UID:69e4a0e225ca0
DTSTAMP:20260419T093114Z
DTSTART:20220528T140000Z
DTEND:20220528T153000Z
LOCATION:Atlantic Palace 1507 Boardwalk\,  Atlantic City\,  NJ 08401
SUMMARY:Superhero Party at Atlantic Palace
DESCRIPTION:EVERY SATURDAY Join us for our weekly Superhero Kids Party at A
 tlantic Palace. Cost to attend is $5 per child\,  which includes supplies\,
   snacks\,  and beverages. Please Note: Anyone attending an event who is NO
 T registered with the resort at the time of the event\,  will be required t
 o sign[..]\nhttps://www.clubboardwalkresorts.com/events/superhero-party-at-
 atlantic-palace/
URL:https://www.clubboardwalkresorts.com/events/superhero-party-at-atlantic-palace/
END:VEVENT
END:VCALENDAR