BEGIN:VCALENDAR
VERSION:2.0
PRODID:-//eventon.com NONSGML v1.0//EN
CALSCALE:GREGORIAN
METHOD:PUBLISH
BEGIN:VEVENT
UID:69e7ce3b257d7
DTSTAMP:20260421T192131Z
DTSTART:20200711T000000Z
DTEND:20200711T020000Z
LOCATION:Blue Water Grille 60 N Maine Ave\,  Atlantic City\,  NJ 08401
SUMMARY:Allison Landon
DESCRIPTION:Allison Landon\nhttps://www.clubboardwalkresorts.com/events/all
 ison-landon-2/
URL:https://www.clubboardwalkresorts.com/events/allison-landon-2/
END:VEVENT
END:VCALENDAR